BEGIN:VCALENDAR
VERSION:2.0
PRODID:-//Tukios.com/
BEGIN:VEVENT
UID:a82556ad-92df-4512-a2d3-13ccf47645ed@www.dunklinfh.com
DTSTAMP:20260421T172650Z
DTSTART:20260422T160000Z
DTEND:20260422T170000Z
SUMMARY:Celebration of Life
DESCRIPTION:
URL:https://www.dunklinfh.com/obituaries/velma-betty-etheredge
LOCATION:First Baptist Church Greenville AL 212 Fort Dale Rd  Greenville 
	AL 36037
GEO:31.8316695;-86.6241139
END:VEVENT
END:VCALENDAR