BEGIN:VCALENDAR
VERSION:2.0
PRODID:-//Tukios.com/
BEGIN:VEVENT
UID:51a1f31f-3584-40d0-a770-5f56b8515576@www.dunklinfh.com
DTSTAMP:20260421T172421Z
DTSTART:20260422T143000Z
DTEND:20260422T151500Z
SUMMARY:Visitation
DESCRIPTION:
URL:https://www.dunklinfh.com/obituaries/velma-betty-etheredge
LOCATION:Dunklin Funeral Home 812 W Commerce St  Greenville AL 36037
GEO:31.8304022;-86.6364193
END:VEVENT
END:VCALENDAR