BEGIN:VCALENDAR
VERSION:2.0
PRODID:-//Tukios.com/
BEGIN:VEVENT
UID:9d7fca03-913f-4c27-8c44-53120b420ee7@www.dunklinfh.com
DTSTAMP:20260421T172248Z
DTSTART:20260422T153000Z
DTEND:20260422T163000Z
SUMMARY:Graveside Service
DESCRIPTION:
URL:https://www.dunklinfh.com/obituaries/velma-betty-etheredge
LOCATION:Magnolia Cemetery 813 West Commerce Street  Greenville AL 36037
GEO:31.8296034;-86.6381003
END:VEVENT
END:VCALENDAR