BEGIN:VCALENDAR
VERSION:2.0
PRODID:-//Tukios.com/
BEGIN:VEVENT
UID:28a5ec86-97a2-4409-bb98-907580424314@www.dunklinfh.com
DTSTAMP:20260421T213016Z
DTSTART:20260426T203000Z
DTEND:20260426T213000Z
SUMMARY:Graveside Service
DESCRIPTION:
URL:https://www.dunklinfh.com/obituaries/carrie-norsworthy
LOCATION:Mount Pisgah Baptist Church Cemetery 3348 Mt. Pisgah Road  
	Georgiana AL 36033
GEO:31.7183929;-86.8597126
END:VEVENT
END:VCALENDAR